Workbook

Sheet Projects
B2: Projects
B4: Workstreams | C4: Other information? | D4: Public test | E4: Purposes test
B5: Project One | D5: 0.8 | E5: 0.2
B6: Project Two | D6: 1 | E6: 0.4
B7: Project Three | D7: 0.1 | E7: 0.1

Sheet Staff time input
B2: Staff time
B4: Staff member | C4: Example
B5: Workstreams | C5: % of time | E5: Public test | F5: Purposes test
B6: Project One | C6: 0.3 | E6: 0.8 | F6: 0.2
B7: Project Two | C7: 0.3 | E7: 1 | F7: 0.4
B8: Project Three | C8: 0.1 | E8: 0.1 | F8: 0.1
B9: Line management | C9: 0.2 | E9: 0 | F9: 0
B10: General admin and other stuff | C10: 0.1 | E10: 0 | F10: 0
B12: Staff member
B13: Workstreams | C13: % of time | E13: Public test | F13: Purposes test

Sheet Staff time calculator
B2: Staff member | C2: Cost per month | D2: Hours per week | E2: Project | F2: % time on project | G2: % passes tests | H2: % overall | I2: Cost of that time
B3: Example | C3: 4000 | D3: 35 | E3: Project One | F3: ='Staff time input'!C6 -> 0.3 | G3: =('Staff time input'!E6)*('Staff time input'!F6) -> 0.16 | H3: =G3*F3 -> 0.048 | I3: =H3*C3 -> 192
E4: Project Two | F4: ='Staff time input'!C7 -> 0.3 | G4: =('Staff time input'!E7)*('Staff time input'!F7) -> 0.4 | H4: =G4*F4 -> 0.12 | I4: =H4*C3 -> 480
E5: Project Three | F5: ='Staff time input'!C8 -> 0.1 | G5: =('Staff time input'!E8)*('Staff time input'!F8) -> 0.01 | H5: =G5*F5 -> 0.001 | I5: =H5*C3 -> 4
H6: Total | I6: =SUM(I3:I5) -> 676
B8: Staff member | C8: Cost per month | D8: Hours per week | E8: Project | F8: % time on project | G8: % passes tests | H8: % overall | I8: Cost of that time
E9: Project One | H9: =G9*F9 -> 0 | I9: =H9*C9 -> 0
E10: Project Two | H10: =G10*F10 -> 0 | I10: =H10*C9 -> 0
E11: Project Three | H11: =G11*F11 -> 0 | I11: =H11*C9 -> 0
H12: Total | I12: =SUM(I9:I11) -> 0

Sheet Events and materials etc
B2: Item/event | C2: Project | D2: Cost: marketing | E2: Cost: rallies and events | F2: Cost: election material | G2: Cost: overheads | H2: % passes tests | I2: Total
I3: =(SUM(D3:G3))*H3 -> 0
B4: Example - leaflets | C4: Project One | F4: 500 | H4: =Projects!D5*Projects!E5 -> 0.16 | I4: =(SUM(D4:G4))*H4 -> 80
B5: Example - hosted event | C5: Project Two | E5: 750 | H5: =Projects!D6*Projects!E6 -> 0.4 | I5: =(SUM(D5:G5))*H5 -> 300
I6: =(SUM(D6:G6))*H6 -> 0
I7: =(SUM(D7:G7))*H7 -> 0
I8: =(SUM(D8:G8))*H8 -> 0
I9: =(SUM(D9:G9))*H9 -> 0
I10: =(SUM(D10:G10))*H10 -> 0
I11: =(SUM(D11:G11))*H11 -> 0
I12: =(SUM(D12:G12))*H12 -> 0
I13: =(SUM(D13:G13))*H13 -> 0
I14: =(SUM(D14:G14))*H14 -> 0
I15: =(SUM(D15:G15))*H15 -> 0
B16: Total | D16: =SUM(D3:D15) -> 0 | E16: =SUM(E3:E15) -> 750 | F16: =SUM(F3:F15) -> 500 | G16: =SUM(G3:G15) -> 0 | I16: =SUM(I3:I15) -> 380

Sheet By project and expenditure type
B2: Pre-expectation spending (add up months from one year before polling day until 4 September)
B4: Project | C4: Cost: staff time | D4: Cost: marketing | E4: Cost: rallies and events | F4: Cost: election material | G4: Cost: overheads | H4: Total
B5: Project One | C5: ='Staff time calculator'!I3 -> 192 | F5: =('Events and materials etc'!F4)*'Events and materials etc'!H4 -> 80 | H5: =SUM(C5:G5) -> 272
B6: Project Two | C6: ='Staff time calculator'!I4 -> 480 | E6: =('Events and materials etc'!E5)*'Events and materials etc'!H5 -> 300 | H6: =SUM(C6:G6) -> 780
B7: Project Three | C7: ='Staff time calculator'!I5 -> 4 | H7: =SUM(C7:G7) -> 4
H8: =SUM(C8:G8) -> 0
H9: =SUM(C9:G9) -> 0
H10: =SUM(C10:G10) -> 0
B11: Total | C11: =SUM(C5:C10) -> 676 | D11: =SUM(D5:D10) -> 0 | E11: =SUM(E5:E10) -> 300 | F11: =SUM(F5:F10) -> 80 | G11: =SUM(G5:G10) -> 0 | H11: =SUM(H5:H10) -> 1056
B13: Post-expectation spending (add up months from 4 September until election is called)
B15: Project | C15: Cost: staff time | D15: Cost: marketing | E15: Cost: rallies and events | F15: Cost: election material | G15: Cost: overheads | H15: Total
B16: Project One | H16: =SUM(C16:G16) -> 0
B17: Project Two | H17: =SUM(C17:G17) -> 0
B18: Project Three | H18: =SUM(C18:G18) -> 0
H19: =SUM(C19:G19) -> 0
H20: =SUM(C20:G20) -> 0
H21: =SUM(C21:G21) -> 0
B22: Total | C22: =SUM(C16:C21) -> 0 | D22: =SUM(D16:D21) -> 0 | E22: =SUM(E16:E21) -> 0 | F22: =SUM(F16:F21) -> 0 | G22: =SUM(G16:G21) -> 0 | H22: =SUM(H16:H21) -> 0
B24: Purdah spending (add up months from election is called until polling day)
B26: Project | C26: Cost: staff time | D26: Cost: marketing | E26: Cost: rallies and events | F26: Cost: election material | G26: Cost: overheads | H26: Total
B27: Project One | H27: =SUM(C27:G27) -> 0
B28: Project Two | H28: =SUM(C28:G28) -> 0
B29: Project Three | H29: =SUM(C29:G29) -> 0
H30: =SUM(C30:G30) -> 0
H31: =SUM(C31:G31) -> 0
H32: =SUM(C32:G32) -> 0
B33: Total | C33: =SUM(C27:C32) -> 0 | D33: =SUM(D27:D32) -> 0 | E33: =SUM(E27:E32) -> 0 | F33: =SUM(F27:F32) -> 0 | G33: =SUM(G27:G32) -> 0 | H33: =SUM(H27:H32) -> 0

Sheet Expenditure type by month
B2: Pre-expectation spending (add up months from one year before polling day until 4 September)
B4: Month | C4: Cost: staff time | D4: Cost: marketing | E4: Cost: rallies and events | F4: Cost: election material | G4: Cost: overheads | H4: Total
B5: 13-31 December 2018 | H5: =SUM(C5:G5) -> 0
B6: 01-31 January 2019 | H6: =SUM(C6:G6) -> 0
B7: 01-28 February 2019 | H7: =SUM(C7:G7) -> 0
B8: 01-31 March 2019 | H8: =SUM(C8:G8) -> 0
B9: 01-30 April 2019 | H9: =SUM(C9:G9) -> 0
B10: 01-31 May 2019 | H10: =SUM(C10:G10) -> 0
B11: 01-30 June 2019 | H11: =SUM(C11:G11) -> 0
B12: 01-31 July 2019 | H12: =SUM(C12:G12) -> 0
B13: 01-31 August 2019 | H13: =SUM(C13:G13) -> 0
B14: 01-04 September 2019 | H14: =SUM(C14:G14) -> 0
B15: Total | C15: =SUM(C5:C14) -> 0 | D15: =SUM(D5:D14) -> 0 | E15: =SUM(E5:E14) -> 0 | F15: =SUM(F5:F14) -> 0 | G15: =SUM(G5:G14) -> 0 | H15: =SUM(H5:H14) -> 0
B17: Post-expectation spending (add up months from 4 September until election is called - asumption that is on 04 Nov simply to put in a date)
B19: Month | C19: Cost: staff time | D19: Cost: marketing | E19: Cost: rallies and events | F19: Cost: election material | G19: Cost: overheads | H19: Total
B20: 05-31 September 2019 | H20: =SUM(C20:G20) -> 0
B21: 01-31 October 2019 | H21: =SUM(C21:G21) -> 0
B22: 01-04 November 2019
B23: Total | C23: =SUM(C20:C21) -> 0 | D23: =SUM(D20:D21) -> 0 | E23: =SUM(E20:E21) -> 0 | F23: =SUM(F20:F21) -> 0 | G23: =SUM(G20:G21) -> 0 | H23: =SUM(H20:H21) -> 0
B25: Purdah spending (add up months from election is called until polling day - asumption that is on 12 Dec simply to put in a date)
B27: Month | C27: Cost: staff time | D27: Cost: marketing | E27: Cost: rallies and events | F27: Cost: election material | G27: Cost: overheads | H27: Total
B28: 05-30 November 2019 | H28: =SUM(C28:G28) -> 0
B29: 01-12 December 2019 | H29: =SUM(C29:G29) -> 0
B30: Total | C30: =SUM(C28:C29) -> 0 | D30: =SUM(D28:D29) -> 0 | E30: =SUM(E28:E29) -> 0 | F30: =SUM(F28:F29) -> 0 | G30: =SUM(G28:G29) -> 0 | H30: =SUM(H28:H29) -> 0

Sheet EC sheet
A1: SPENDING | P1: REPORTING
J2: =IF(J3=S3,-1,IF(J3=S4,0,1)) -> 1
J3: =IF(OR((COUNTIF(P18:P667,">9750")>0),Q9>J9,Q10>J10,Q11>J11,Q12>J12),S3,IF(OR(,Q9>I9,Q10>I10,Q11>I11,Q12>I12),S4,S5)) -> Reporting not required | S3: SPENDING LIMIT EXCEEDED
K4: Constits. | S4: REPORT SPENDING
A5: Type 1. Spending on UK-wide campaigning | S5: Reporting not required
A6: United Kingdom | K6: =SUM(K9:K12) -> 650 | S6: N.I.
A8: Type 2. Spending on campaigning in each separate part of the UK
A9: England | I9: 20000 | J9: 319800 | K9: 533 | M9: 0 | Q9: =SUM(P18:P550) -> 0 | R9: =IF(AND(COUNTIF(P18:P550,">7800")>0,OR($Q$9>$I$9,$Q$10>$I$10,$Q$11>$I$11,$Q$12>$I$12)),1,0) -> 0 | S9: =IF(OR($B$15=A9,$D$15=A9),"",A9)
A10: Scotland | I10: 10000 | J10: 55400 | K10: 59 | M10: 0 | Q10: =SUM(P551:P609) -> 0 | R10: =IF(AND(COUNTIF(P551:P609,">7800")>0,OR($Q$9>$I$9,$Q$10>$I$10,$Q$11>$I$11,$Q$12>$I$12)),1,0) -> 0 | S10: =IF(OR($B$15=A10,$D$15=A10),"",A10)
A11: Wales | I11: 10000 | J11: 44000 | K11: 40 | M11: 0 | Q11: =SUM(P610:P649) -> 0 | R11: =IF(AND(COUNTIF(P610:P649,">7800")>0,OR($Q$9>$I$9,$Q$10>$I$10,$Q$11>$I$11,$Q$12>$I$12)),1,0) -> 0 | S11: =IF(OR($B$15=A11,$D$15=A11),"",A11) -> Wales
A12: Northern Ireland | I12: 10000 | J12: 30800 | K12: 18 | M12: 0 | Q12: =SUM(P650:P667) -> 0 | R12: =IF(AND(COUNTIF(P650:P667,">7800")>0,OR($Q$9>$I$9,$Q$10>$I$10,$Q$11>$I$11,$Q$12>$I$12)),1,0) -> 0 | S12: =IF(OR($B$15=A12,$D$15=A12),"",S6) -> N.I.
A14: Type 3. Spending on one campaign across two or three parts of the UK
A15: Combination of | B15: England | C15: & | D15: Scotland | E15: =IF(D15="","","&") -> & | F15: Wales | J15: =IF(OR(B15="England",D15="England",F15="England"),600,55400/59)*K15 -> 379200 | K15: =IF(B15=A9,K9,IF(B15=A10,K10,IF(B15=A11,K11,IF(B15=A12,K12,0))))+IF(D15=B15,0,IF(D15=A9,K9,IF(D15=A10,K10,IF(D15=A11,K11,IF(D15=A12,K12,0)))))+IF(OR(F15=D15,F15=B15),0,IF(F15=A9,K9,IF(F15=A10,K10,IF(F15=A11,K11,IF(F15=A12,K12,0))))) -> 632
A17: Type 4. Spending on focused constituency campaigning
A18: Aldershot | H18: England | J18: 9750 | K18: 1 | M18: 0 | P18: =M18+($M$6/$K$6)+($M$9/$K$9)+IF(OR($B$15=H18,$D$15=H18,$F$15=H18),$M$15/$K$15,0) -> 0 | Q18: =A9 -> England
A19: Aldridge-Brownhills | H19: England | J19: 9750 | K19: 1 | M19: 0 | P19: =M19+($M$6/$K$6)+($M$9/$K$9)+IF(OR($B$15=H19,$D$15=H19,$F$15=H19),$M$15/$K$15,0) -> 0
A20: Altrincham and Sale West | H20: England | J20: 9750 | K20: 1 | M20: 0 | P20: =M20+($M$6/$K$6)+($M$9/$K$9)+IF(OR($B$15=H20,$D$15=H20,$F$15=H20),$M$15/$K$15,0) -> 0
A21: Amber Valley | H21: England | J21: 9750 | K21: 1 | M21: 0 | P21: =M21+($M$6/$K$6)+($M$9/$K$9)+IF(OR($B$15=H21,$D$15=H21,$F$15=H21),$M$15/$K$15,0) -> 0
A22: Arundel and South Downs | H22: England | J22: 9750 | K22: 1 | M22: 0 | P22: =M22+($M$6/$K$6)+($M$9/$K$9)+IF(OR($B$15=H22,$D$15=H22,$F$15=H22),$M$15/$K$15,0) -> 0
A23: Ashfield | H23: England | J23: 9750 | K23: 1 | M23: 0 | P23: =M23+($M$6/$K$6)+($M$9/$K$9)+IF(OR($B$15=H23,$D$15=H23,$F$15=H23),$M$15/$K$15,0) -> 0
A24: Ashford | H24: England | J24: 9750 | K24: 1 | M24: 0 | P24: =M24+($M$6/$K$6)+($M$9/$K$9)+IF(OR($B$15=H24,$D$15=H24,$F$15=H24),$M$15/$K$15,0) -> 0
A25: Ashton-under-Lyne | H25: England | J25: 9750 | K25: 1 | M25: 0 | P25: =M25+($M$6/$K$6)+($M$9/$K$9)+IF(OR($B$15=H25,$D$15=H25,$F$15=H25),$M$15/$K$15,0) -> 0
A26: Aylesbury | H26: England | J26: 9750 | K26: 1 | M26: 0 | P26: =M26+($M$6/$K$6)+($M$9/$K$9)+IF(OR($B$15=H26,$D$15=H26,$F$15=H26),$M$15/$K$15,0) -> 0
A27: Banbury | H27: England | J27: 9750 | K27: 1 | M27: 0 | P27: =M27+($M$6/$K$6)+($M$9/$K$9)+IF(OR($B$15=H27,$D$15=H27,$F$15=H27),$M$15/$K$15,0) -> 0
A28: Barking | H28: England | J28: 9750 | K28: 1 | M28: 0 | P28: =M28+($M$6/$K$6)+($M$9/$K$9)+IF(OR($B$15=H28,$D$15=H28,$F$15=H28),$M$15/$K$15,0) -> 0
A29: Barnsley Central | H29: England | J29: 9750 | K29: 1 | M29: 0 | P29: =M29+($M$6/$K$6)+($M$9/$K$9)+IF(OR($B$15=H29,$D$15=H29,$F$15=H29),$M$15/$K$15,0) -> 0
A30: Barnsley East | H30: England | J30: 9750 | K30: 1 | M30: 0 | P30: =M30+($M$6/$K$6)+($M$9/$K$9)+IF(OR($B$15=H30,$D$15=H30,$F$15=H30),$M$15/$K$15,0) -> 0
... A55: Birmingham, Selly Oak | H55: England | J55: 9750 | K55: 1 | M55: 0 | P55: =M55+($M$6/$K$6)+($M$9/$K$9)+IF(OR($B$15=H55,$D$15=H55,$F$15=H55),$M$15/$K$15,0) -> 0
A56: Birmingham, Yardley | H56: England | J56: 9750 | K56: 1 | M56: 0 | P56: =M56+($M$6/$K$6)+($M$9/$K$9)+IF(OR($B$15=H56,$D$15=H56,$F$15=H56),$M$15/$K$15,0) -> 0 | Q56: =A9 -> England
A57: Bishop Auckland | H57: England | J57: 9750 | K57: 1 | M57: 0 | P57: =M57+($M$6/$K$6)+($M$9/$K$9)+IF(OR($B$15=H57,$D$15=H57,$F$15=H57),$M$15/$K$15,0) -> 0
A58: Blackburn | H58: England | J58: 9750 | K58: 1 | M58: 0 | P58: =M58+($M$6/$K$6)+($M$9/$K$9)+IF(OR($B$15=H58,$D$15=H58,$F$15=H58),$M$15/$K$15,0) -> 0
A59: Blackpool North and Cleveleys | H59: England | J59: 9750 | K59: 1 | M59: 0 | P59: =M59+($M$6/$K$6)+($M$9/$K$9)+IF(OR($B$15=H59,$D$15=H59,$F$15=H59),$M$15/$K$15,0) -> 0
A60: Blackpool South | H60: England | J60: 9750 | K60: 1 | M60: 0 | P60: =M60+($M$6/$K$6)+($M$9/$K$9)+IF(OR($B$15=H60,$D$15=H60,$F$15=H60),$M$15/$K$15,0) -> 0
A61: Blackley and Broughton | H61: England | J61: 9750 | K61: 1 | M61: 0 | P61: =M61+($M$6/$K$6)+($M$9/$K$9)+IF(OR($B$15=H61,$D$15=H61,$F$15=H61),$M$15/$K$15,0) -> 0
A62: Blaydon | H62: England | J62: 9750 | K62: 1 | M62: 0 | P62: =M62+($M$6/$K$6)+($M$9/$K$9)+IF(OR($B$15=H62,$D$15=H62,$F$15=H62),$M$15/$K$15,0) -> 0
A63: Blyth Valley | H63: England | J63: 9750 | K63: 1 | M63: 0 | P63: =M63+($M$6/$K$6)+($M$9/$K$9)+IF(OR($B$15=H63,$D$15=H63,$F$15=H63),$M$15/$K$15,0) -> 0
A64: Bognor Regis and Littlehampton | H64: England | J64: 9750 | K64: 1 | M64: 0 | P64: =M64+($M$6/$K$6)+($M$9/$K$9)+IF(OR($B$15=H64,$D$15=H64,$F$15=H64),$M$15/$K$15,0) -> 0
A65: Bolsover | H65: England | J65: 9750 | K65: 1 | M65: 0 | P65: =M65+($M$6/$K$6)+($M$9/$K$9)+IF(OR($B$15=H65,$D$15=H65,$F$15=H65),$M$15/$K$15,0) -> 0
A66: Bolton North East | H66: England | J66: 9750 | K66: 1 | M66: 0 | P66: =M66+($M$6/$K$6)+($M$9/$K$9)+IF(OR($B$15=H66,$D$15=H66,$F$15=H66),$M$15/$K$15,0) -> 0
A67: Bolton South East | H67: England | J67: 9750 | K67: 1 | M67: 0 | P67: =M67+($M$6/$K$6)+($M$9/$K$9)+IF(OR($B$15=H67,$D$15=H67,$F$15=H67),$M$15/$K$15,0) -> 0
A68: Bolton West | H68: England | J68: 9750 | K68: 1 | M68: 0 | P68: =M68+($M$6/$K$6)+($M$9/$K$9)+IF(OR($B$15=H68,$D$15=H68,$F$15=H68),$M$15/$K$15,0) -> 0
... A111: Central Devon | H111: England | J111: 9750 | K111: 1 | M111: 0 | P111: =M111+($M$6/$K$6)+($M$9/$K$9)+IF(OR($B$15=H111,$D$15=H111,$F$15=H111),$M$15/$K$15,0) -> 0
A112: Central Suffolk and North Ipswich | H112: England | J112: 9750 | K112: 1 | M112: 0 | P112: =M112+($M$6/$K$6)+($M$9/$K$9)+IF(OR($B$15=H112,$D$15=H112,$F$15=H112),$M$15/$K$15,0) -> 0 | Q112: =A9 -> England
A113: Charnwood | H113: England | J113: 9750 | K113: 1 | M113: 0 | P113: =M113+($M$6/$K$6)+($M$9/$K$9)+IF(OR($B$15=H113,$D$15=H113,$F$15=H113),$M$15/$K$15,0) -> 0
A114: Chatham and Aylesford | H114: England | J114: 9750 | K114: 1 | M114: 0 | P114: =M114+($M$6/$K$6)+($M$9/$K$9)+IF(OR($B$15=H114,$D$15=H114,$F$15=H114),$M$15/$K$15,0) -> 0
A115: Cheadle | H115: England | J115: 9750 | K115: 1 | M115: 0 | P115: =M115+($M$6/$K$6)+($M$9/$K$9)+IF(OR($B$15=H115,$D$15=H115,$F$15=H115),$M$15/$K$15,0) -> 0
A116: Chelmsford | H116: England | J116: 9750 | K116: 1 | M116: 0 | P116: =M116+($M$6/$K$6)+($M$9/$K$9)+IF(OR($B$15=H116,$D$15=H116,$F$15=H116),$M$15/$K$15,0) -> 0
A117: Chelsea and Fulham | H117: England | J117: 9750 | K117: 1 | M117: 0 | P117: =M117+($M$6/$K$6)+($M$9/$K$9)+IF(OR($B$15=H117,$D$15=H117,$F$15=H117),$M$15/$K$15,0) -> 0
A118: Cheltenham | H118: England | J118: 9750 | K118: 1 | M118: 0 | P118: =M118+($M$6/$K$6)+($M$9/$K$9)+IF(OR($B$15=H118,$D$15=H118,$F$15=H118),$M$15/$K$15,0) -> 0
A119: Chesham and Amersham | H119: England | J119: 9750 | K119: 1 | M119: 0 | P119: =M119+($M$6/$K$6)+($M$9/$K$9)+IF(OR($B$15=H119,$D$15=H119,$F$15=H119),$M$15/$K$15,0) -> 0
A120: Chesterfield | H120: England | J120: 9750 | K120: 1 | M120: 0 | P120: =M120+($M$6/$K$6)+($M$9/$K$9)+IF(OR($B$15=H120,$D$15=H120,$F$15=H120),$M$15/$K$15,0) -> 0
A121: Chichester | H121: England | J121: 9750 | K121: 1 | M121: 0 | P121: =M121+($M$6/$K$6)+($M$9/$K$9)+IF(OR($B$15=H121,$D$15=H121,$F$15=H121),$M$15/$K$15,0) -> 0
A122: Chingford and Woodford Green | H122: England | J122: 9750 | K122: 1 | M122: 0 | P122: =M122+($M$6/$K$6)+($M$9/$K$9)+IF(OR($B$15=H122,$D$15=H122,$F$15=H122),$M$15/$K$15,0) -> 0
A123: Chippenham | H123: England | J123: 9750 | K123: 1 | M123: 0 | P123: =M123+($M$6/$K$6)+($M$9/$K$9)+IF(OR($B$15=H123,$D$15=H123,$F$15=H123),$M$15/$K$15,0) -> 0
A124: Chipping Barnet | H124: England | J124: 9750 | K124: 1 | M124: 0 | P124: =M124+($M$6/$K$6)+($M$9/$K$9)+IF(OR($B$15=H124,$D$15=H124,$F$15=H124),$M$15/$K$15,0) -> 0
... A166: East Devon | H166: England | J166: 9750 | K166: 1 | M166: 0 | P166: =M166+($M$6/$K$6)+($M$9/$K$9)+IF(OR($B$15=H166,$D$15=H166,$F$15=H166),$M$15/$K$15,0) -> 0
A167: East Ham | H167: England | J167: 9750 | K167: 1 | M167: 0 | P167: =M167+($M$6/$K$6)+($M$9/$K$9)+IF(OR($B$15=H167,$D$15=H167,$F$15=H167),$M$15/$K$15,0) -> 0 | Q167: =A9 -> England
A168: East Hampshire | H168: England | J168: 9750 | K168: 1 | M168: 0 | P168: =M168+($M$6/$K$6)+($M$9/$K$9)+IF(OR($B$15=H168,$D$15=H168,$F$15=H168),$M$15/$K$15,0) -> 0
A169: East Surrey | H169: England | J169: 9750 | K169: 1 | M169: 0 | P169: =M169+($M$6/$K$6)+($M$9/$K$9)+IF(OR($B$15=H169,$D$15=H169,$F$15=H169),$M$15/$K$15,0) -> 0
A170: East Worthing and Shoreham | H170: England | J170: 9750 | K170: 1 | M170: 0 | P170: =M170+($M$6/$K$6)+($M$9/$K$9)+IF(OR($B$15=H170,$D$15=H170,$F$15=H170),$M$15/$K$15,0) -> 0
A171: East Yorkshire | H171: England | J171: 9750 | K171: 1 | M171: 0 | P171: =M171+($M$6/$K$6)+($M$9/$K$9)+IF(OR($B$15=H171,$D$15=H171,$F$15=H171),$M$15/$K$15,0) -> 0
A172: Eastbourne | H172: England | J172: 9750 | K172: 1 | M172: 0 | P172: =M172+($M$6/$K$6)+($M$9/$K$9)+IF(OR($B$15=H172,$D$15=H172,$F$15=H172),$M$15/$K$15,0) -> 0
A173: Eastleigh | H173: England | J173: 9750 | K173: 1 | M173: 0 | P173: =M173+($M$6/$K$6)+($M$9/$K$9)+IF(OR($B$15=H173,$D$15=H173,$F$15=H173),$M$15/$K$15,0) -> 0
A174: Eddisbury | H174: England | J174: 9750 | K174: 1 | M174: 0 | P174: =M174+($M$6/$K$6)+($M$9/$K$9)+IF(OR($B$15=H174,$D$15=H174,$F$15=H174),$M$15/$K$15,0) -> 0
A175: Edmonton | H175: England | J175: 9750 | K175: 1 | M175: 0 | P175: =M175+($M$6/$K$6)+($M$9/$K$9)+IF(OR($B$15=H175,$D$15=H175,$F$15=H175),$M$15/$K$15,0) -> 0
A176: Ellesmere Port and Neston | H176: England | J176: 9750 | K176: 1 | M176: 0 | P176: =M176+($M$6/$K$6)+($M$9/$K$9)+IF(OR($B$15=H176,$D$15=H176,$F$15=H176),$M$15/$K$15,0) -> 0
A177: Elmet and Rothwell | H177: England | J177: 9750 | K177: 1 | M177: 0 | P177: =M177+($M$6/$K$6)+($M$9/$K$9)+IF(OR($B$15=H177,$D$15=H177,$F$15=H177),$M$15/$K$15,0) -> 0
A178: Eltham | H178: England | J178: 9750 | K178: 1 | M178: 0 | P178: =M178+($M$6/$K$6)+($M$9/$K$9)+IF(OR($B$15=H178,$D$15=H178,$F$15=H178),$M$15/$K$15,0) -> 0
A179: Enfield North | H179: England | J179: 9750 | K179: 1 | M179: 0 | P179: =M179+($M$6/$K$6)+($M$9/$K$9)+IF(OR($B$15=H179,$D$15=H179,$F$15=H179),$M$15/$K$15,0) -> 0
... A221: Hartlepool | H221: England | J221: 9750 | K221: 1 | M221: 0 | P221: =M221+($M$6/$K$6)+($M$9/$K$9)+IF(OR($B$15=H221,$D$15=H221,$F$15=H221),$M$15/$K$15,0) -> 0
A222: Harwich and North Essex | H222: England | J222: 9750 | K222: 1 | M222: 0 | P222: =M222+($M$6/$K$6)+($M$9/$K$9)+IF(OR($B$15=H222,$D$15=H222,$F$15=H222),$M$15/$K$15,0) -> 0 | Q222: =A9 -> England
A223: Hastings and Rye | H223: England | J223: 9750 | K223: 1 | M223: 0 | P223: =M223+($M$6/$K$6)+($M$9/$K$9)+IF(OR($B$15=H223,$D$15=H223,$F$15=H223),$M$15/$K$15,0) -> 0
A224: Havant | H224: England | J224: 9750 | K224: 1 | M224: 0 | P224: =M224+($M$6/$K$6)+($M$9/$K$9)+IF(OR($B$15=H224,$D$15=H224,$F$15=H224),$M$15/$K$15,0) -> 0
A225: Hayes and Harlington | H225: England | J225: 9750 | K225: 1 | M225: 0 | P225: =M225+($M$6/$K$6)+($M$9/$K$9)+IF(OR($B$15=H225,$D$15=H225,$F$15=H225),$M$15/$K$15,0) -> 0
A226: Hazel Grove | H226: England | J226: 9750 | K226: 1 | M226: 0 | P226: =M226+($M$6/$K$6)+($M$9/$K$9)+IF(OR($B$15=H226,$D$15=H226,$F$15=H226),$M$15/$K$15,0) -> 0
A227: Hemel Hempstead | H227: England | J227: 9750 | K227: 1 | M227: 0 | P227: =M227+($M$6/$K$6)+($M$9/$K$9)+IF(OR($B$15=H227,$D$15=H227,$F$15=H227),$M$15/$K$15,0) -> 0
A228: Hemsworth | H228: England | J228: 9750 | K228: 1 | M228: 0 | P228: =M228+($M$6/$K$6)+($M$9/$K$9)+IF(OR($B$15=H228,$D$15=H228,$F$15=H228),$M$15/$K$15,0) -> 0
A229: Hendon | H229: England | J229: 9750 | K229: 1 | M229: 0 | P229: =M229+($M$6/$K$6)+($M$9/$K$9)+IF(OR($B$15=H229,$D$15=H229,$F$15=H229),$M$15/$K$15,0) -> 0
A230: Henley | H230: England | J230: 9750 | K230: 1 | M230: 0 | P230: =M230+($M$6/$K$6)+($M$9/$K$9)+IF(OR($B$15=H230,$D$15=H230,$F$15=H230),$M$15/$K$15,0) -> 0
A231: Hereford and South Herefordshire | H231: England | J231: 9750 | K231: 1 | M231: 0 | P231: =M231+($M$6/$K$6)+($M$9/$K$9)+IF(OR($B$15=H231,$D$15=H231,$F$15=H231),$M$15/$K$15,0) -> 0
A232: Hertford and Stortford | H232: England | J232: 9750 | K232: 1 | M232: 0 | P232: =M232+($M$6/$K$6)+($M$9/$K$9)+IF(OR($B$15=H232,$D$15=H232,$F$15=H232),$M$15/$K$15,0) -> 0
A233: Hertsmere | H233: England | J233: 9750 | K233: 1 | M233: 0 | P233: =M233+($M$6/$K$6)+($M$9/$K$9)+IF(OR($B$15=H233,$D$15=H233,$F$15=H233),$M$15/$K$15,0) -> 0
A234: Hexham | H234: England | J234: 9750 | K234: 1 | M234: 0 | P234: =M234+($M$6/$K$6)+($M$9/$K$9)+IF(OR($B$15=H234,$D$15=H234,$F$15=H234),$M$15/$K$15,0) -> 0
... A276: Lewisham East | H276: England | J276: 9750 | K276: 1 | M276: 0 | P276: =M276+($M$6/$K$6)+($M$9/$K$9)+IF(OR($B$15=H276,$D$15=H276,$F$15=H276),$M$15/$K$15,0) -> 0
A277: Lewisham West and Penge | H277: England | J277: 9750 | K277: 1 | M277: 0 | P277: =M277+($M$6/$K$6)+($M$9/$K$9)+IF(OR($B$15=H277,$D$15=H277,$F$15=H277),$M$15/$K$15,0) -> 0 | Q277: =A9 -> England
A278: Leyton and Wanstead | H278: England | J278: 9750 | K278: 1 | M278: 0 | P278: =M278+($M$6/$K$6)+($M$9/$K$9)+IF(OR($B$15=H278,$D$15=H278,$F$15=H278),$M$15/$K$15,0) -> 0
A279: Lichfield | H279: England | J279: 9750 | K279: 1 | M279: 0 | P279: =M279+($M$6/$K$6)+($M$9/$K$9)+IF(OR($B$15=H279,$D$15=H279,$F$15=H279),$M$15/$K$15,0) -> 0
A280: Lincoln | H280: England | J280: 9750 | K280: 1 | M280: 0 | P280: =M280+($M$6/$K$6)+($M$9/$K$9)+IF(OR($B$15=H280,$D$15=H280,$F$15=H280),$M$15/$K$15,0) -> 0
A281: Liverpool, Riverside | H281: England | J281: 9750 | K281: 1 | M281: 0 | P281: =M281+($M$6/$K$6)+($M$9/$K$9)+IF(OR($B$15=H281,$D$15=H281,$F$15=H281),$M$15/$K$15,0) -> 0
A282: Liverpool, Walton | H282: England | J282: 9750 | K282: 1 | M282: 0 | P282: =M282+($M$6/$K$6)+($M$9/$K$9)+IF(OR($B$15=H282,$D$15=H282,$F$15=H282),$M$15/$K$15,0) -> 0
A283: Liverpool, Wavertree | H283: England | J283: 9750 | K283: 1 | M283: 0 | P283: =M283+($M$6/$K$6)+($M$9/$K$9)+IF(OR($B$15=H283,$D$15=H283,$F$15=H283),$M$15/$K$15,0) -> 0
A284: Liverpool, West Derby | H284: England | J284: 9750 | K284: 1 | M284: 0 | P284: =M284+($M$6/$K$6)+($M$9/$K$9)+IF(OR($B$15=H284,$D$15=H284,$F$15=H284),$M$15/$K$15,0) -> 0
A285: Loughborough | H285: England | J285: 9750 | K285: 1 | M285: 0 | P285: =M285+($M$6/$K$6)+($M$9/$K$9)+IF(OR($B$15=H285,$D$15=H285,$F$15=H285),$M$15/$K$15,0) -> 0
A286: Louth and Horncastle | H286: England | J286: 9750 | K286: 1 | M286: 0 | P286: =M286+($M$6/$K$6)+($M$9/$K$9)+IF(OR($B$15=H286,$D$15=H286,$F$15=H286),$M$15/$K$15,0) -> 0
A287: Ludlow | H287: England | J287: 9750 | K287: 1 | M287: 0 | P287: =M287+($M$6/$K$6)+($M$9/$K$9)+IF(OR($B$15=H287,$D$15=H287,$F$15=H287),$M$15/$K$15,0) -> 0
A288: Luton North | H288: England | J288: 9750 | K288: 1 | M288: 0 | P288: =M288+($M$6/$K$6)+($M$9/$K$9)+IF(OR($B$15=H288,$D$15=H288,$F$15=H288),$M$15/$K$15,0) -> 0
A289: Luton South | H289: England | J289: 9750 | K289: 1 | M289: 0 | P289: =M289+($M$6/$K$6)+($M$9/$K$9)+IF(OR($B$15=H289,$D$15=H289,$F$15=H289),$M$15/$K$15,0) -> 0
... A331: North East Derbyshire | H331: England | J331: 9750 | K331: 1 | M331: 0 | P331: =M331+($M$6/$K$6)+($M$9/$K$9)+IF(OR($B$15=H331,$D$15=H331,$F$15=H331),$M$15/$K$15,0) -> 0
A332: North East Hampshire | H332: England | J332: 9750 | K332: 1 | M332: 0 | P332: =M332+($M$6/$K$6)+($M$9/$K$9)+IF(OR($B$15=H332,$D$15=H332,$F$15=H332),$M$15/$K$15,0) -> 0 | Q332: =A9 -> England
A333: North East Hertfordshire | H333: England | J333: 9750 | K333: 1 | M333: 0 | P333: =M333+($M$6/$K$6)+($M$9/$K$9)+IF(OR($B$15=H333,$D$15=H333,$F$15=H333),$M$15/$K$15,0) -> 0
...
